63.6
0
0
-63.6
249339.22663189503
-563477.408737
